BEGIN:VCALENDAR
VERSION:2.0
PRODID:-//Türk Balıkadamlar Spor Kulübü - ECPv6.15.20//NONSGML v1.0//EN
CALSCALE:GREGORIAN
METHOD:PUBLISH
X-ORIGINAL-URL:https://www.tbk.org.tr
X-WR-CALDESC:Türk Balıkadamlar Spor Kulübü için etkinlikler
REFRESH-INTERVAL;VALUE=DURATION:PT1H
X-Robots-Tag:noindex
X-PUBLISHED-TTL:PT1H
BEGIN:VTIMEZONE
TZID:Europe/Moscow
BEGIN:STANDARD
TZOFFSETFROM:+0300
TZOFFSETTO:+0300
TZNAME:MSK
DTSTART:20230101T000000
END:STANDARD
END:VTIMEZONE
BEGIN:VEVENT
DTSTART;TZID=Europe/Moscow:20240116T190000
DTEND;TZID=Europe/Moscow:20240331T170000
DTSTAMP:20260420T234951
CREATED:20231228T123611Z
LAST-MODIFIED:20240129T130248Z
UID:6179-1705431600-1711904400@www.tbk.org.tr
SUMMARY:(24E401) CMAS 1 VE 2 YILDIZ EĞİTMEN EĞİTİMİ (1. DÖNEM) - 16 OCAK - 31 MART 2024
DESCRIPTION:Bu eğitim; Türkiye Sualtı Sporları Federasyonu’nun (TSSF) CMAS Bir\, İki ve Üç Yıldız Dalıcı Eğitimi Kitaplarına hakim\, 10 uzmanlık belgesine sahip (sınava katılabilmek için zorunludur)\, tüm sualtı becerilerine hakim\, yönetmeliklerde belirlenmiş olan dalış sayılarına ulaşmış ve herhangi bir sağlık sorunu bulunmayan katılımcılar için uygundur. Eğitimin içeriğinde\, TSSF’ nin açacağı sınavlara hazırlanmak için ders anlatım teknikleri ile sualtı ve su üstü becerileri hakkında pratik uygulamalarda verilmektedir. Eğitim sonunda başarılı olan kursiyerler; TSSF Eğitmen Eğitimi sınavı müracaatı için gerekli olan belgelerin bir kopyasını kulübümüze teslim etmeleri koşuluyla 7 ve 8 belgelerini alabilirler. Eğitimde devam zorunluluğu vardır. \nEĞİTİME BAŞVURU YAPMAK İÇİN\nBu eğitim yılda bir kez açılır ve bu alana eklenen başvuru linki ile kayıtlar alınır. 2024 yılına ait eğitim başvuruları 16 Ocak 2024 tarihinde sona ermiştir.
URL:https://www.tbk.org.tr/event/24e401/
LOCATION:İstanbul
CATEGORIES:EĞİTİMLER
ATTACH;FMTTYPE=image/jpeg:https://www.tbk.org.tr/wp-content/uploads/2023/12/1-yildiz-egitim.jpg
ORGANIZER;CN="T%C3%BCrk Bal%C4%B1kadamlar Spor Kul%C3%BCb%C3%BC":MAILTO:info@tbk.org.tr
END:VEVENT
BEGIN:VEVENT
DTSTART;TZID=Europe/Moscow:20240222T190000
DTEND;TZID=Europe/Moscow:20240222T190000
DTSTAMP:20260420T234951
CREATED:20240220T052238Z
LAST-MODIFIED:20240220T052433Z
UID:6515-1708628400-1708628400@www.tbk.org.tr
SUMMARY:SON SIĞINAK MARMARA
DESCRIPTION:VOLKAN NARCI ile SON SIĞINAK MARMARA BELGESEL GÖSTERİMİ\nDeniz Yaşamını Koruma Derneği üyelerinden Volkan\, Engin ve dört ayaklı miçoları Luna’nın Marmara\, Ege ve Akdeniz sularında çıktıları serüveni konu eden “Son Sığınak Marmara” belgeselini\, Volkan Narcı’nın kendi anlatımıyla izliyoruz. \nDeniz Yaşamını Koruma Derneği üyelerinden Volkan\, Engin ve dört ayaklı miçoları Luna’nın Cumhuriyetimizin 100’üncü yıl dönümünde Marmara\, Ege ve Akdeniz sularında çıktığı serüveni anlatan 9 dakikalık “Son Sığınak Marmara” belgeselini\, Volkan Narcı’nın anlatımı eşliğinde hep birlikte izlemek üzere bir araya geliyoruz. Ekibin\, bu serüvende karşılaştıkları benzersiz su altı güzellikleri kadar\, bu canlıların insanoğlunun yarattığı tüm tahribata rağmen hayatta kalmak için verdikleri mücadeleyi izlerken\, belgesele katkıda bulunan alanında uzman kişiler\, profesörler ve deneyimli denizcilerden sakin görünen sularımızın altında süregelen mücadeleyi de dinleyeceğimiz bu belgesel gösterimine\, tüm sporcularımızı ve üyelerimizi bekliyoruz. \nKonuşmacı: Volkan Narcı
URL:https://www.tbk.org.tr/event/son-siginak-marmara/
LOCATION:İstanbul
CATEGORIES:ETKİNLİKLER,SOSYAL ETKİNLİKLER
ATTACH;FMTTYPE=image/jpeg:https://www.tbk.org.tr/wp-content/uploads/2024/02/WEB-scaled.jpg
ORGANIZER;CN="T%C3%BCrk Bal%C4%B1kadamlar Spor Kul%C3%BCb%C3%BC":MAILTO:info@tbk.org.tr
END:VEVENT
END:VCALENDAR