BEGIN:VCALENDAR
VERSION:2.0
PRODID:-//Türk Balıkadamlar Spor Kulübü - ECPv6.15.20//NONSGML v1.0//EN
CALSCALE:GREGORIAN
METHOD:PUBLISH
X-ORIGINAL-URL:https://www.tbk.org.tr
X-WR-CALDESC:Türk Balıkadamlar Spor Kulübü için etkinlikler
REFRESH-INTERVAL;VALUE=DURATION:PT1H
X-Robots-Tag:noindex
X-PUBLISHED-TTL:PT1H
BEGIN:VTIMEZONE
TZID:Europe/Moscow
BEGIN:STANDARD
TZOFFSETFROM:+0300
TZOFFSETTO:+0300
TZNAME:MSK
DTSTART:20240101T000000
END:STANDARD
END:VTIMEZONE
BEGIN:VEVENT
DTSTART;TZID=Europe/Moscow:20250124T193000
DTEND;TZID=Europe/Moscow:20250124T203000
DTSTAMP:20260420T211741
CREATED:20241229T134208Z
LAST-MODIFIED:20241229T143709Z
UID:9414-1737747000-1737750600@www.tbk.org.tr
SUMMARY:“LEMBEH” FOTOĞRAF SUNUMU VE SÖYLEŞİSİ
DESCRIPTION:SU ALTI FOTOĞRAFÇISI BÜLENT ŞELLİ VE ÖĞRENCİLERİ \nLEMBEH’TEKİ ATÖLYE ÇALIŞMASINI PAYLAŞIYOR. \nSu altı fotoğrafçısı Bülent Şelli\, 7-15 Aralık 2024 tarihlerinde\, Endonezya’nın Lembeh bölgesinde\, öğrencileri; Eser Paşa\, Eren Baştanoğlu\, Gürkan Arıkan\, Işıl Özçam\, Neslihan Güler\, Reşit Yürekkorkutan\, Umeyir Hazini ile birlikte gerçekleştirdiği ve başarıyla tamamlanan atölye çalışması sonuçlarını\, su altı ve fotoğraf severler ile paylaşıyor. \nDünyanın su altı makro görüntüleme konu çeşitliliği açısından en zengin bölgelerinden biri olan Lembeh’te çekilen muhteşem fotoğrafları\, çeken ekibin yorum ve anlatımlarıyla dinlemek için sizleri; 24 Ocak 2025\, Cuma akşamı\, saat 19.30’da Türk Balıkadamlar Spor Kulübü’ne bekliyoruz. \nBülent Şelli hakkında \nÖdüllü su altı fotoğrafçısı ve PADI Dijital Su Altı Fotoğrafçılığı Eğitmeni olan Bülent Şelli\, dalış ve su altı dünyasına henüz bir çocukken Cousteau’nun belgesellerini izleyerek ilgi duymaya başladı. 1996 yılında aletli dalış sporuna başladı ve yine aynı yıl Dokuz Eylül Üniversitesi Sualtı Topluluğunu kuranlardan biri oldu. \nSu altının güzelliklerini daha fazla kişiyle paylaşma isteği onu fotoğrafçılığa yöneltti. Profesyonel bir yayıncı olan Şelli için su altı fotoğrafları çekmek bir tutku haline geldi ve 2009 yılında İmbat Su altı Görüntüleme Merkezi’ni kurdu. Su altı fotoğraf atölyeleri\, sergiler ve gösterimler düzenleyen fotoğrafçı\, Ege’den Akdeniz’e\, Hint Okyanusu’ndan Pasifik Okyanus’una kadar her denizde dalışlar gerçekleştirdi. 2017 yılında ilk kitabı Seferihisar’ın Su altı Dünyası yayınlandı. Pek çok kurum için su altı fotoğraf projelerine imza atmaya devam eden Bülent Şelli\, profesyonel yaşamına İmbat Su Altı Görüntüleme Merkezi’nde devam etmektedir. \nKonuşmacılar: Bülent Şelli\, Eser Paşa\, Eren Baştanoğlu\, Gürkan Arıkan\, Işıl Özçam\, Neslihan Güler\, Reşit Yürekkorkutan\, Umeyir Hazini \nTarih: 24 Ocak 2025\, Cuma \nSaat: 19.30 \nYer: Türk Balıkadamlar Spor Kulübü Etkinlik Salonu
URL:https://www.tbk.org.tr/event/25s101/
LOCATION:Türk Balıkadamlar Spor Kulübü\, Caddebostan Mah. Funda Çıkmazı Sk. No:8\, Kadıköy\, İstanbul\, 34728\, Türkiye
CATEGORIES:ETKİNLİKLER,SOSYAL ETKİNLİKLER
ATTACH;FMTTYPE=image/jpeg:https://www.tbk.org.tr/wp-content/uploads/2024/12/LEMBEH-POST-1.jpg
ORGANIZER;CN="T%C3%BCrk Bal%C4%B1kadamlar Spor Kul%C3%BCb%C3%BC":MAILTO:info@tbk.org.tr
END:VEVENT
END:VCALENDAR