BEGIN:VCALENDAR
VERSION:2.0
PRODID:-//Türk Balıkadamlar Spor Kulübü - ECPv6.15.20//NONSGML v1.0//EN
CALSCALE:GREGORIAN
METHOD:PUBLISH
X-WR-CALNAME:Türk Balıkadamlar Spor Kulübü
X-ORIGINAL-URL:https://www.tbk.org.tr
X-WR-CALDESC:Türk Balıkadamlar Spor Kulübü için etkinlikler
REFRESH-INTERVAL;VALUE=DURATION:PT1H
X-Robots-Tag:noindex
X-PUBLISHED-TTL:PT1H
BEGIN:VTIMEZONE
TZID:Europe/Moscow
BEGIN:STANDARD
TZOFFSETFROM:+0300
TZOFFSETTO:+0300
TZNAME:MSK
DTSTART:20250101T000000
END:STANDARD
END:VTIMEZONE
BEGIN:VEVENT
DTSTART;TZID=Europe/Moscow:20260714T190000
DTEND;TZID=Europe/Moscow:20260726T170000
DTSTAMP:20260419T235319
CREATED:20251123T073547Z
LAST-MODIFIED:20251123T073547Z
UID:11459-1784055600-1785085200@www.tbk.org.tr
SUMMARY:(26E106) CMAS 1 YILDIZ DALICI EĞİTİMİ (6. DÖNEM) / 14 TEMMUZ – 26 TEMMUZ 2026
DESCRIPTION:Bu eğitim hakkında detaylı bilgiye https://www.tbk.org.tr/1-yildiz-dalici-egitimi linkinden erişebilirsiniz. Eğitimlerimize başvuru ve kayıtlar\, ilgili eğitimin başlangıç tarihinden yaklaşık iki hafta önce duyurularak sadece online olarak web sitemiz üzerinden alınmaktadır. Duyurulardan öncelikli olarak haberdar olmak istersiniz web sitemizin ana sayfasında bulunan “Whatsapp Duyuru Grubu” muza katılabilir veya @tbk1954 instagram adresimizi takip edebilirsiniz.
URL:https://www.tbk.org.tr/event/26e106/
LOCATION:Türk Balıkadamlar Spor Kulübü\, Caddebostan Mah. Funda Çıkmazı Sk. No:8\, Kadıköy\, İstanbul\, 34728\, Türkiye
CATEGORIES:EĞİTİMLER,ETKİNLİKLER
ATTACH;FMTTYPE=image/jpeg:https://www.tbk.org.tr/wp-content/uploads/2024/11/1-yildiz-1.jpg
ORGANIZER;CN="T%C3%BCrk Bal%C4%B1kadamlar Spor Kul%C3%BCb%C3%BC":MAILTO:info@tbk.org.tr
END:VEVENT
BEGIN:VEVENT
DTSTART;TZID=Europe/Moscow:20260725T083000
DTEND;TZID=Europe/Moscow:20260725T170000
DTSTAMP:20260419T235319
CREATED:20251123T090521Z
LAST-MODIFIED:20251123T090521Z
UID:11507-1784968200-1784998800@www.tbk.org.tr
SUMMARY:(26G115) GELİŞİM DALIŞI / 25 TEMMUZ 2026 CUMARTESİ
DESCRIPTION:Bu Gelişim Dalışı hakkında detaylı bilgiye https://www.tbk.org.tr/glsmdls/ linkinden erişebilirsiniz. Gelişim Dalışı başvuru ve kayıtları\, genellikle ilgili Gelişim Dalışının yapılacağı tarihin haftasının başında duyurularak sadece online olarak web sitemiz üzerinden alınmaktadır. Duyurulardan öncelikli olarak haberdar olmak istersiniz web sitemizin ana sayfasında bulunan “Whatsapp Duyuru Grubu” muza katılabilir veya @tbk1954 instagram adresimizi takip edebilirsiniz.
URL:https://www.tbk.org.tr/event/26g115/
LOCATION:Türk Balıkadamlar Spor Kulübü\, Caddebostan Mah. Funda Çıkmazı Sk. No:8\, Kadıköy\, İstanbul\, 34728\, Türkiye
CATEGORIES:ETKİNLİKLER,GELİŞİM DALIŞLARI
ATTACH;FMTTYPE=image/jpeg:https://www.tbk.org.tr/wp-content/uploads/2024/11/Gelisim-scaled.jpg
ORGANIZER;CN="T%C3%BCrk Bal%C4%B1kadamlar Spor Kul%C3%BCb%C3%BC":MAILTO:info@tbk.org.tr
END:VEVENT
END:VCALENDAR