BEGIN:VCALENDAR
VERSION:2.0
PRODID:-//Türk Balıkadamlar Spor Kulübü - ECPv6.15.20//NONSGML v1.0//EN
CALSCALE:GREGORIAN
METHOD:PUBLISH
X-WR-CALNAME:Türk Balıkadamlar Spor Kulübü
X-ORIGINAL-URL:https://www.tbk.org.tr
X-WR-CALDESC:Türk Balıkadamlar Spor Kulübü için etkinlikler
REFRESH-INTERVAL;VALUE=DURATION:PT1H
X-Robots-Tag:noindex
X-PUBLISHED-TTL:PT1H
BEGIN:VTIMEZONE
TZID:Europe/Moscow
BEGIN:STANDARD
TZOFFSETFROM:+0300
TZOFFSETTO:+0300
TZNAME:MSK
DTSTART:20250101T000000
END:STANDARD
END:VTIMEZONE
BEGIN:VEVENT
DTSTART;TZID=Europe/Moscow:20260921T190000
DTEND;TZID=Europe/Moscow:20261011T170000
DTSTAMP:20260420T031355
CREATED:20251123T082133Z
LAST-MODIFIED:20251123T082133Z
UID:11475-1790017200-1791738000@www.tbk.org.tr
SUMMARY:(26E202) CMAS 2 YILDIZ DALICI EĞİTİMİ (2. DÖNEM) / 21 EYLÜL – 11 EKİM 2026
DESCRIPTION:Bu eğitim hakkında detaylı bilgiye https://www.tbk.org.tr/2-yildiz-dalici-egitimi linkinden erişebilirsiniz. Eğitimlerimize başvuru ve kayıtlar\, ilgili eğitimin başlangıç tarihinden yaklaşık iki hafta önce duyurularak sadece online olarak web sitemiz üzerinden alınmaktadır. Duyurulardan öncelikli olarak haberdar olmak istersiniz web sitemizin ana sayfasında bulunan “Whatsapp Duyuru Grubu” muza katılabilir veya @tbk1954 instagram adresimizi takip edebilirsiniz.
URL:https://www.tbk.org.tr/event/26e202/
LOCATION:Türk Balıkadamlar Spor Kulübü\, Caddebostan Mah. Funda Çıkmazı Sk. No:8\, Kadıköy\, İstanbul\, 34728\, Türkiye
CATEGORIES:EĞİTİMLER,ETKİNLİKLER
ATTACH;FMTTYPE=image/jpeg:https://www.tbk.org.tr/wp-content/uploads/2024/11/2-Yildiz.jpg
ORGANIZER;CN="T%C3%BCrk Bal%C4%B1kadamlar Spor Kul%C3%BCb%C3%BC":MAILTO:info@tbk.org.tr
END:VEVENT
BEGIN:VEVENT
DTSTART;TZID=Europe/Moscow:20260922T190000
DTEND;TZID=Europe/Moscow:20261004T170000
DTSTAMP:20260420T031355
CREATED:20251123T074755Z
LAST-MODIFIED:20251123T074755Z
UID:11469-1790103600-1791133200@www.tbk.org.tr
SUMMARY:(26E111) CMAS 1 YILDIZ DALICI EĞİTİMİ (11. DÖNEM) / 22 EYLÜL – 04 EKİM 2026
DESCRIPTION:Bu eğitim hakkında detaylı bilgiye https://www.tbk.org.tr/1-yildiz-dalici-egitimi linkinden erişebilirsiniz. Eğitimlerimize başvuru ve kayıtlar\, ilgili eğitimin başlangıç tarihinden yaklaşık iki hafta önce duyurularak sadece online olarak web sitemiz üzerinden alınmaktadır. Duyurulardan öncelikli olarak haberdar olmak istersiniz web sitemizin ana sayfasında bulunan “Whatsapp Duyuru Grubu” muza katılabilir veya @tbk1954 instagram adresimizi takip edebilirsiniz.
URL:https://www.tbk.org.tr/event/26e111/
LOCATION:Türk Balıkadamlar Spor Kulübü\, Caddebostan Mah. Funda Çıkmazı Sk. No:8\, Kadıköy\, İstanbul\, 34728\, Türkiye
CATEGORIES:EĞİTİMLER,ETKİNLİKLER
ATTACH;FMTTYPE=image/jpeg:https://www.tbk.org.tr/wp-content/uploads/2024/11/1-yildiz-1.jpg
ORGANIZER;CN="T%C3%BCrk Bal%C4%B1kadamlar Spor Kul%C3%BCb%C3%BC":MAILTO:info@tbk.org.tr
END:VEVENT
END:VCALENDAR