BEGIN:VCALENDAR
VERSION:2.0
PRODID:-//Türk Balıkadamlar Spor Kulübü - ECPv6.15.20//NONSGML v1.0//EN
CALSCALE:GREGORIAN
METHOD:PUBLISH
X-ORIGINAL-URL:https://www.tbk.org.tr
X-WR-CALDESC:Türk Balıkadamlar Spor Kulübü için etkinlikler
REFRESH-INTERVAL;VALUE=DURATION:PT1H
X-Robots-Tag:noindex
X-PUBLISHED-TTL:PT1H
BEGIN:VTIMEZONE
TZID:Europe/Moscow
BEGIN:STANDARD
TZOFFSETFROM:+0300
TZOFFSETTO:+0300
TZNAME:MSK
DTSTART:20220101T000000
END:STANDARD
END:VTIMEZONE
BEGIN:VEVENT
DTSTART;TZID=Europe/Moscow:20231228T190000
DTEND;TZID=Europe/Moscow:20231228T190000
DTSTAMP:20260421T225027
CREATED:20240122T204830Z
LAST-MODIFIED:20240122T205016Z
UID:6337-1703790000-1703790000@www.tbk.org.tr
SUMMARY:“DALIŞ TARİHİMİZDE BİR EFSANE” TOSUN SEZEN
DESCRIPTION:AKIN SAVAŞ TOKLU’NUN ANLATIMIYLA\, TÜRKİYE’DE MODERN DALGIÇLIĞIN KURUCUSU TOSUN SEZEN’İ ANIYORUZ. \n1938 yılında İstanbul’da doğan Tosun Sezen\, lise yıllarında Halikarnas Balıkcısı’nın dalgıçlar ve süngerciler hakkındaki kitaplarını okuyarak su altı dünyasıyla tanışır ve dalış sporuna merak sarar. Öğrenimine devam ettiği Robert Kolej’de\, daha sonra ortağı da olacak Baskın Sokullu ile birlikte bir dalgıçlık kulübü kurarlar. O yılların İstanbul’unda balıkadamların sayısı iki elin parmaklarını geçmemektedir. \nSünger avcılığında balıkadam dönemini başlatan\, süngercilikte modern dalgıçlığın öncü isimlerinden Tosun Sezen’i Akın Savaş Toklu’dan dinlemek ve anmak üzere bir araya geliyoruz. \nKonuşmacı: AKIN SAVAŞ TOKLU \nTarih: 28 Aralık 2023\, Perşembe \nSaat: 19.00 \nYer: Türk Balıkadamlar Spor Kulübü\, Etkinlik Salonu
URL:https://www.tbk.org.tr/event/dalis-tarihimizde-bir-efsane-tosun-sezen/
LOCATION:İstanbul
CATEGORIES:ETKİNLİKLER,SOSYAL ETKİNLİKLER
ATTACH;FMTTYPE=image/jpeg:https://www.tbk.org.tr/wp-content/uploads/2023/12/28_12_2023_Akin_Savas_Toklu_Banner2-scaled.jpg
ORGANIZER;CN="T%C3%BCrk Bal%C4%B1kadamlar Spor Kul%C3%BCb%C3%BC":MAILTO:info@tbk.org.tr
END:VEVENT
END:VCALENDAR