BEGIN:VCALENDAR
VERSION:2.0
PRODID:-//Türk Balıkadamlar Spor Kulübü - ECPv6.15.20//NONSGML v1.0//EN
CALSCALE:GREGORIAN
METHOD:PUBLISH
X-ORIGINAL-URL:https://www.tbk.org.tr
X-WR-CALDESC:Türk Balıkadamlar Spor Kulübü için etkinlikler
REFRESH-INTERVAL;VALUE=DURATION:PT1H
X-Robots-Tag:noindex
X-PUBLISHED-TTL:PT1H
BEGIN:VTIMEZONE
TZID:Europe/Moscow
BEGIN:STANDARD
TZOFFSETFROM:+0300
TZOFFSETTO:+0300
TZNAME:MSK
DTSTART:20230101T000000
END:STANDARD
END:VTIMEZONE
BEGIN:VEVENT
DTSTART;TZID=Europe/Moscow:20240723T190000
DTEND;TZID=Europe/Moscow:20240804T190000
DTSTAMP:20260421T075241
CREATED:20231011T161205Z
LAST-MODIFIED:20231011T161205Z
UID:5503-1721761200-1722798000@www.tbk.org.tr
SUMMARY:(24E107) CMAS 1 YILDIZ DALICI EĞİTİMİ (7. DÖNEM) / 23 TEMMUZ – 04 AĞUSTOS 2024
DESCRIPTION:
URL:https://www.tbk.org.tr/event/24e107/
LOCATION:Türk Balıkadamlar Spor Kulübü\, Caddebostan Mah. Funda Çıkmazı Sk. No:8\, Kadıköy\, İstanbul\, 34728\, Türkiye
CATEGORIES:EĞİTİMLER
ATTACH;FMTTYPE=image/jpeg:https://www.tbk.org.tr/wp-content/uploads/2023/10/mkm.jpg
ORGANIZER;CN="T%C3%BCrk Bal%C4%B1kadamlar Spor Kul%C3%BCb%C3%BC":MAILTO:info@tbk.org.tr
END:VEVENT
BEGIN:VEVENT
DTSTART;TZID=Europe/Moscow:20240803T083000
DTEND;TZID=Europe/Moscow:20240803T170000
DTSTAMP:20260421T075241
CREATED:20231113T131301Z
LAST-MODIFIED:20231113T131301Z
UID:5853-1722673800-1722704400@www.tbk.org.tr
SUMMARY:(24G118) GELİŞİM DALIŞI / 03 AĞUSTOS 2024 – CUMARTESİ
DESCRIPTION:
URL:https://www.tbk.org.tr/event/24g118/
LOCATION:Türk Balıkadamlar Spor Kulübü\, Caddebostan Mah. Funda Çıkmazı Sk. No:8\, Kadıköy\, İstanbul\, 34728\, Türkiye
CATEGORIES:GELİŞİM DALIŞLARI
ATTACH;FMTTYPE=image/jpeg:https://www.tbk.org.tr/wp-content/uploads/2023/11/IMG_2721-scaled.jpg
ORGANIZER;CN="T%C3%BCrk Bal%C4%B1kadamlar Spor Kul%C3%BCb%C3%BC":MAILTO:info@tbk.org.tr
END:VEVENT
BEGIN:VEVENT
DTSTART;TZID=Europe/Moscow:20240806T190000
DTEND;TZID=Europe/Moscow:20240818T190000
DTSTAMP:20260421T075241
CREATED:20231011T161434Z
LAST-MODIFIED:20231011T161434Z
UID:5505-1722970800-1724007600@www.tbk.org.tr
SUMMARY:(24E108) CMAS 1 YILDIZ DALICI EĞİTİMİ (8. DÖNEM) / 06 AĞUSTOS – 18 AĞUSTOS 2024
DESCRIPTION:
URL:https://www.tbk.org.tr/event/24e108/
LOCATION:Türk Balıkadamlar Spor Kulübü\, Caddebostan Mah. Funda Çıkmazı Sk. No:8\, Kadıköy\, İstanbul\, 34728\, Türkiye
CATEGORIES:EĞİTİMLER
ATTACH;FMTTYPE=image/jpeg:https://www.tbk.org.tr/wp-content/uploads/2023/10/mkm.jpg
ORGANIZER;CN="T%C3%BCrk Bal%C4%B1kadamlar Spor Kul%C3%BCb%C3%BC":MAILTO:info@tbk.org.tr
END:VEVENT
BEGIN:VEVENT
DTSTART;TZID=Europe/Moscow:20240810T083000
DTEND;TZID=Europe/Moscow:20240810T170000
DTSTAMP:20260421T075241
CREATED:20231113T131449Z
LAST-MODIFIED:20231113T131449Z
UID:5855-1723278600-1723309200@www.tbk.org.tr
SUMMARY:(24G119) GELİŞİM DALIŞI / 10 AĞUSTOS 2024 – CUMARTESİ
DESCRIPTION:
URL:https://www.tbk.org.tr/event/24g119/
LOCATION:Türk Balıkadamlar Spor Kulübü\, Caddebostan Mah. Funda Çıkmazı Sk. No:8\, Kadıköy\, İstanbul\, 34728\, Türkiye
CATEGORIES:GELİŞİM DALIŞLARI
ATTACH;FMTTYPE=image/jpeg:https://www.tbk.org.tr/wp-content/uploads/2023/11/IMG_2721-scaled.jpg
ORGANIZER;CN="T%C3%BCrk Bal%C4%B1kadamlar Spor Kul%C3%BCb%C3%BC":MAILTO:info@tbk.org.tr
END:VEVENT
BEGIN:VEVENT
DTSTART;TZID=Europe/Moscow:20240811T083000
DTEND;TZID=Europe/Moscow:20240811T170000
DTSTAMP:20260421T075241
CREATED:20231113T131629Z
LAST-MODIFIED:20231113T131629Z
UID:5857-1723365000-1723395600@www.tbk.org.tr
SUMMARY:(24G120) GELİŞİM DALIŞI / 11 AĞUSTOS 2024 – PAZAR
DESCRIPTION:
URL:https://www.tbk.org.tr/event/24g120/
LOCATION:Türk Balıkadamlar Spor Kulübü\, Caddebostan Mah. Funda Çıkmazı Sk. No:8\, Kadıköy\, İstanbul\, 34728\, Türkiye
CATEGORIES:GELİŞİM DALIŞLARI
ATTACH;FMTTYPE=image/jpeg:https://www.tbk.org.tr/wp-content/uploads/2023/11/IMG_2721-scaled.jpg
ORGANIZER;CN="T%C3%BCrk Bal%C4%B1kadamlar Spor Kul%C3%BCb%C3%BC":MAILTO:info@tbk.org.tr
END:VEVENT
BEGIN:VEVENT
DTSTART;TZID=Europe/Moscow:20240820T190000
DTEND;TZID=Europe/Moscow:20240901T190000
DTSTAMP:20260421T075241
CREATED:20231011T161718Z
LAST-MODIFIED:20231011T161718Z
UID:5507-1724180400-1725217200@www.tbk.org.tr
SUMMARY:(24E109) CMAS 1 YILDIZ DALICI EĞİTİMİ (9. DÖNEM) / 20 AĞUSTOS – 01 EYLÜL 2024
DESCRIPTION:
URL:https://www.tbk.org.tr/event/24e109/
LOCATION:Türk Balıkadamlar Spor Kulübü\, Caddebostan Mah. Funda Çıkmazı Sk. No:8\, Kadıköy\, İstanbul\, 34728\, Türkiye
CATEGORIES:EĞİTİMLER
ATTACH;FMTTYPE=image/jpeg:https://www.tbk.org.tr/wp-content/uploads/2023/10/mkm.jpg
ORGANIZER;CN="T%C3%BCrk Bal%C4%B1kadamlar Spor Kul%C3%BCb%C3%BC":MAILTO:info@tbk.org.tr
END:VEVENT
BEGIN:VEVENT
DTSTART;TZID=Europe/Moscow:20240824T083000
DTEND;TZID=Europe/Moscow:20240824T170000
DTSTAMP:20260421T075241
CREATED:20231113T131957Z
LAST-MODIFIED:20231113T131957Z
UID:5861-1724488200-1724518800@www.tbk.org.tr
SUMMARY:(24G122) GELİŞİM DALIŞI / 24 AĞUSTOS 2024 – CUMARTESİ
DESCRIPTION:
URL:https://www.tbk.org.tr/event/24g122/
LOCATION:Türk Balıkadamlar Spor Kulübü\, Caddebostan Mah. Funda Çıkmazı Sk. No:8\, Kadıköy\, İstanbul\, 34728\, Türkiye
CATEGORIES:GELİŞİM DALIŞLARI
ATTACH;FMTTYPE=image/jpeg:https://www.tbk.org.tr/wp-content/uploads/2023/11/IMG_2721-scaled.jpg
ORGANIZER;CN="T%C3%BCrk Bal%C4%B1kadamlar Spor Kul%C3%BCb%C3%BC":MAILTO:info@tbk.org.tr
END:VEVENT
BEGIN:VEVENT
DTSTART;TZID=Europe/Moscow:20240825T083000
DTEND;TZID=Europe/Moscow:20240825T170000
DTSTAMP:20260421T075241
CREATED:20231113T132132Z
LAST-MODIFIED:20231113T132132Z
UID:5863-1724574600-1724605200@www.tbk.org.tr
SUMMARY:(24G123) GELİŞİM DALIŞI / 25 AĞUSTOS 2024 – PAZAR
DESCRIPTION:
URL:https://www.tbk.org.tr/event/24g123/
LOCATION:Türk Balıkadamlar Spor Kulübü\, Caddebostan Mah. Funda Çıkmazı Sk. No:8\, Kadıköy\, İstanbul\, 34728\, Türkiye
CATEGORIES:GELİŞİM DALIŞLARI
ATTACH;FMTTYPE=image/jpeg:https://www.tbk.org.tr/wp-content/uploads/2023/11/IMG_2721-scaled.jpg
ORGANIZER;CN="T%C3%BCrk Bal%C4%B1kadamlar Spor Kul%C3%BCb%C3%BC":MAILTO:info@tbk.org.tr
END:VEVENT
BEGIN:VEVENT
DTSTART;TZID=Europe/Moscow:20240831T083000
DTEND;TZID=Europe/Moscow:20240831T170000
DTSTAMP:20260421T075241
CREATED:20231113T132310Z
LAST-MODIFIED:20231113T132310Z
UID:5865-1725093000-1725123600@www.tbk.org.tr
SUMMARY:(24G124) GELİŞİM DALIŞI / 31 AĞUSTOS 2024 – CUMARTESİ
DESCRIPTION:
URL:https://www.tbk.org.tr/event/24g124/
LOCATION:Türk Balıkadamlar Spor Kulübü\, Caddebostan Mah. Funda Çıkmazı Sk. No:8\, Kadıköy\, İstanbul\, 34728\, Türkiye
CATEGORIES:GELİŞİM DALIŞLARI
ATTACH;FMTTYPE=image/jpeg:https://www.tbk.org.tr/wp-content/uploads/2023/11/IMG_2721-scaled.jpg
ORGANIZER;CN="T%C3%BCrk Bal%C4%B1kadamlar Spor Kul%C3%BCb%C3%BC":MAILTO:info@tbk.org.tr
END:VEVENT
END:VCALENDAR