BEGIN:VCALENDAR
VERSION:2.0
PRODID:-//Türk Balıkadamlar Spor Kulübü - ECPv6.15.20//NONSGML v1.0//EN
CALSCALE:GREGORIAN
METHOD:PUBLISH
X-ORIGINAL-URL:https://www.tbk.org.tr
X-WR-CALDESC:Türk Balıkadamlar Spor Kulübü için etkinlikler
REFRESH-INTERVAL;VALUE=DURATION:PT1H
X-Robots-Tag:noindex
X-PUBLISHED-TTL:PT1H
BEGIN:VTIMEZONE
TZID:Europe/Moscow
BEGIN:STANDARD
TZOFFSETFROM:+0300
TZOFFSETTO:+0300
TZNAME:MSK
DTSTART:20240101T000000
END:STANDARD
END:VTIMEZONE
BEGIN:VEVENT
DTSTART;TZID=Europe/Moscow:20250512T190000
DTEND;TZID=Europe/Moscow:20250601T180000
DTSTAMP:20260420T104400
CREATED:20241130T165904Z
LAST-MODIFIED:20250602T184945Z
UID:9222-1747076400-1748800800@www.tbk.org.tr
SUMMARY:(25E201) CMAS 2 YILDIZ DALICI EĞİTİMİ (1. DÖNEM) / 12 MAYIS – 01 HAZİRAN 2025
DESCRIPTION:(25E201) CMAS 2 YILDIZ DALICI EĞİTİMİ (1. DÖNEM) / 12 MAYIS – 01 HAZİRAN 2025 eğitim dönemi\, Kulüp Yerleşkesi bakım onarım çalışmaları nedeni ile iptal edilerek planlamadan çıkarılmıştır. (03.05.2025)
URL:https://www.tbk.org.tr/event/25e201/
LOCATION:Türk Balıkadamlar Spor Kulübü\, Caddebostan Mah. Funda Çıkmazı Sk. No:8\, Kadıköy\, İstanbul\, 34728\, Türkiye
CATEGORIES:EĞİTİMLER,ETKİNLİKLER
ATTACH;FMTTYPE=image/jpeg:https://www.tbk.org.tr/wp-content/uploads/2024/11/2-Yildiz.jpg
ORGANIZER;CN="T%C3%BCrk Bal%C4%B1kadamlar Spor Kul%C3%BCb%C3%BC":MAILTO:info@tbk.org.tr
END:VEVENT
BEGIN:VEVENT
DTSTART;TZID=Europe/Moscow:20250610T190000
DTEND;TZID=Europe/Moscow:20250622T180000
DTSTAMP:20260420T104400
CREATED:20241130T152437Z
LAST-MODIFIED:20250602T182628Z
UID:9204-1749582000-1750615200@www.tbk.org.tr
SUMMARY:(25E104) CMAS 1 YILDIZ DALICI EĞİTİMİ (4. DÖNEM) / 10 HAZİRAN – 22 HAZİRAN 2025
DESCRIPTION:(25E104) CMAS 1 YILDIZ DALICI EĞİTİMİ (4. DÖNEM) / 10 HAZİRAN – 22 HAZİRAN 2025 eğitim dönemi\, Kulüp Yerleşkesi bakım onarım çalışmaları nedeni ile iptal edilerek planlamadan çıkarılmıştır. (28.05.2025)
URL:https://www.tbk.org.tr/event/25e104/
LOCATION:Türk Balıkadamlar Spor Kulübü\, Caddebostan Mah. Funda Çıkmazı Sk. No:8\, Kadıköy\, İstanbul\, 34728\, Türkiye
CATEGORIES:EĞİTİMLER,ETKİNLİKLER
ATTACH;FMTTYPE=image/jpeg:https://www.tbk.org.tr/wp-content/uploads/2024/11/1-yildiz-1.jpg
ORGANIZER;CN="T%C3%BCrk Bal%C4%B1kadamlar Spor Kul%C3%BCb%C3%BC":MAILTO:info@tbk.org.tr
END:VEVENT
BEGIN:VEVENT
DTSTART;TZID=Europe/Moscow:20250624T190000
DTEND;TZID=Europe/Moscow:20250706T180000
DTSTAMP:20260420T104400
CREATED:20241130T153033Z
LAST-MODIFIED:20241203T094111Z
UID:9206-1750791600-1751824800@www.tbk.org.tr
SUMMARY:(25E105) CMAS 1 YILDIZ DALICI EĞİTİMİ (5. DÖNEM) / 24 HAZİRAN – 06 TEMMUZ 2025
DESCRIPTION:
URL:https://www.tbk.org.tr/event/25e105/
LOCATION:Türk Balıkadamlar Spor Kulübü\, Caddebostan Mah. Funda Çıkmazı Sk. No:8\, Kadıköy\, İstanbul\, 34728\, Türkiye
CATEGORIES:EĞİTİMLER,ETKİNLİKLER
ATTACH;FMTTYPE=image/jpeg:https://www.tbk.org.tr/wp-content/uploads/2024/11/1-yildiz-1.jpg
ORGANIZER;CN="T%C3%BCrk Bal%C4%B1kadamlar Spor Kul%C3%BCb%C3%BC":MAILTO:info@tbk.org.tr
END:VEVENT
END:VCALENDAR