BEGIN:VCALENDAR
VERSION:2.0
PRODID:-//Türk Balıkadamlar Spor Kulübü - ECPv6.15.20//NONSGML v1.0//EN
CALSCALE:GREGORIAN
METHOD:PUBLISH
X-WR-CALNAME:Türk Balıkadamlar Spor Kulübü
X-ORIGINAL-URL:https://www.tbk.org.tr
X-WR-CALDESC:Türk Balıkadamlar Spor Kulübü için etkinlikler
REFRESH-INTERVAL;VALUE=DURATION:PT1H
X-Robots-Tag:noindex
X-PUBLISHED-TTL:PT1H
BEGIN:VTIMEZONE
TZID:Europe/Moscow
BEGIN:STANDARD
TZOFFSETFROM:+0300
TZOFFSETTO:+0300
TZNAME:MSK
DTSTART:20240101T000000
END:STANDARD
END:VTIMEZONE
BEGIN:VEVENT
DTSTART;TZID=Europe/Moscow:20250722T190000
DTEND;TZID=Europe/Moscow:20250803T180000
DTSTAMP:20260420T070445
CREATED:20241130T153643Z
LAST-MODIFIED:20250804T104243Z
UID:9210-1753210800-1754244000@www.tbk.org.tr
SUMMARY:(25E107) CMAS 1 YILDIZ DALICI EĞİTİMİ (7. DÖNEM) / 22 TEMMUZ – 03 AĞUSTOS 2025
DESCRIPTION:EĞİTİM DÖNEMİNE BAŞVURU YAPMAK İÇİN BURAYA TIKLAYINIZ
URL:https://www.tbk.org.tr/event/25e107/
LOCATION:Türk Balıkadamlar Spor Kulübü\, Caddebostan Mah. Funda Çıkmazı Sk. No:8\, Kadıköy\, İstanbul\, 34728\, Türkiye
CATEGORIES:EĞİTİMLER,ETKİNLİKLER
ATTACH;FMTTYPE=image/jpeg:https://www.tbk.org.tr/wp-content/uploads/2024/11/1-yildiz-1.jpg
ORGANIZER;CN="T%C3%BCrk Bal%C4%B1kadamlar Spor Kul%C3%BCb%C3%BC":MAILTO:info@tbk.org.tr
END:VEVENT
BEGIN:VEVENT
DTSTART;TZID=Europe/Moscow:20250805T190000
DTEND;TZID=Europe/Moscow:20250817T180000
DTSTAMP:20260420T070445
CREATED:20241130T164154Z
LAST-MODIFIED:20250806T063138Z
UID:9212-1754420400-1755453600@www.tbk.org.tr
SUMMARY:(25E108) CMAS 1 YILDIZ DALICI EĞİTİMİ (8. DÖNEM) / 05 AĞUSTOS – 17 AĞUSTOS 2025
DESCRIPTION:EĞİTİM DÖNEMİNE BAŞVURU YAPMAK İÇİN BURAYA TIKLAYINIZ
URL:https://www.tbk.org.tr/event/25e108/
LOCATION:Türk Balıkadamlar Spor Kulübü\, Caddebostan Mah. Funda Çıkmazı Sk. No:8\, Kadıköy\, İstanbul\, 34728\, Türkiye
CATEGORIES:EĞİTİMLER,ETKİNLİKLER
ATTACH;FMTTYPE=image/jpeg:https://www.tbk.org.tr/wp-content/uploads/2024/11/1-yildiz-1.jpg
ORGANIZER;CN="T%C3%BCrk Bal%C4%B1kadamlar Spor Kul%C3%BCb%C3%BC":MAILTO:info@tbk.org.tr
END:VEVENT
BEGIN:VEVENT
DTSTART;TZID=Europe/Moscow:20250809T083000
DTEND;TZID=Europe/Moscow:20250809T170000
DTSTAMP:20260420T070445
CREATED:20241201T111708Z
LAST-MODIFIED:20250804T104437Z
UID:9275-1754728200-1754758800@www.tbk.org.tr
SUMMARY:(25G119) GELİŞİM DALIŞI / 09 AĞUSTOS 2025 – CUMARTESİ
DESCRIPTION:EĞİTİM DÖNEMİNE BAŞVURU YAPMAK İÇİN BURAYA TIKLAYINIZ
URL:https://www.tbk.org.tr/event/25g119/
LOCATION:Türk Balıkadamlar Spor Kulübü\, Caddebostan Mah. Funda Çıkmazı Sk. No:8\, Kadıköy\, İstanbul\, 34728\, Türkiye
CATEGORIES:ETKİNLİKLER,GELİŞİM DALIŞLARI
ATTACH;FMTTYPE=image/jpeg:https://www.tbk.org.tr/wp-content/uploads/2024/11/Gelisim-scaled.jpg
ORGANIZER;CN="T%C3%BCrk Bal%C4%B1kadamlar Spor Kul%C3%BCb%C3%BC":MAILTO:info@tbk.org.tr
END:VEVENT
BEGIN:VEVENT
DTSTART;TZID=Europe/Moscow:20250810T083000
DTEND;TZID=Europe/Moscow:20250810T170000
DTSTAMP:20260420T070445
CREATED:20241201T112809Z
LAST-MODIFIED:20241203T092521Z
UID:9277-1754814600-1754845200@www.tbk.org.tr
SUMMARY:(25G120) GELİŞİM DALIŞI / 10 AĞUSTOS 2025 – PAZAR
DESCRIPTION:
URL:https://www.tbk.org.tr/event/25g120/
LOCATION:Türk Balıkadamlar Spor Kulübü\, Caddebostan Mah. Funda Çıkmazı Sk. No:8\, Kadıköy\, İstanbul\, 34728\, Türkiye
CATEGORIES:ETKİNLİKLER,GELİŞİM DALIŞLARI
ORGANIZER;CN="T%C3%BCrk Bal%C4%B1kadamlar Spor Kul%C3%BCb%C3%BC":MAILTO:info@tbk.org.tr
END:VEVENT
BEGIN:VEVENT
DTSTART;TZID=Europe/Moscow:20250816T083000
DTEND;TZID=Europe/Moscow:20250816T170000
DTSTAMP:20260420T070445
CREATED:20241202T160452Z
LAST-MODIFIED:20241203T092511Z
UID:9284-1755333000-1755363600@www.tbk.org.tr
SUMMARY:(25G121) GELİŞİM DALIŞI / 16 AĞUSTOS 2025 – CUMARTESİ
DESCRIPTION:
URL:https://www.tbk.org.tr/event/25g121/
LOCATION:Türk Balıkadamlar Spor Kulübü\, Caddebostan Mah. Funda Çıkmazı Sk. No:8\, Kadıköy\, İstanbul\, 34728\, Türkiye
CATEGORIES:ETKİNLİKLER,GELİŞİM DALIŞLARI
ATTACH;FMTTYPE=image/jpeg:https://www.tbk.org.tr/wp-content/uploads/2024/11/Gelisim-scaled.jpg
ORGANIZER;CN="T%C3%BCrk Bal%C4%B1kadamlar Spor Kul%C3%BCb%C3%BC":MAILTO:info@tbk.org.tr
END:VEVENT
BEGIN:VEVENT
DTSTART;TZID=Europe/Moscow:20250819T190000
DTEND;TZID=Europe/Moscow:20250831T180000
DTSTAMP:20260420T070445
CREATED:20241130T164419Z
LAST-MODIFIED:20250806T064151Z
UID:9214-1755630000-1756663200@www.tbk.org.tr
SUMMARY:(25E109) CMAS 1 YILDIZ DALICI EĞİTİMİ (9. DÖNEM) / 19 AĞUSTOS – 31 AĞUSTOS 2025
DESCRIPTION:EĞİTİM DÖNEMİNE BAŞVURU YAPMAK İÇİN BURAYA TIKLAYINIZ
URL:https://www.tbk.org.tr/event/25e109/
LOCATION:Türk Balıkadamlar Spor Kulübü\, Caddebostan Mah. Funda Çıkmazı Sk. No:8\, Kadıköy\, İstanbul\, 34728\, Türkiye
CATEGORIES:EĞİTİMLER,ETKİNLİKLER
ATTACH;FMTTYPE=image/jpeg:https://www.tbk.org.tr/wp-content/uploads/2024/11/1-yildiz-1.jpg
ORGANIZER;CN="T%C3%BCrk Bal%C4%B1kadamlar Spor Kul%C3%BCb%C3%BC":MAILTO:info@tbk.org.tr
END:VEVENT
BEGIN:VEVENT
DTSTART;TZID=Europe/Moscow:20250823T080000
DTEND;TZID=Europe/Moscow:20250823T170000
DTSTAMP:20260420T070445
CREATED:20241202T160643Z
LAST-MODIFIED:20241203T092448Z
UID:9286-1755936000-1755968400@www.tbk.org.tr
SUMMARY:(25G122) GELİŞİM DALIŞI / 23 AĞUSTOS 2025 – CUMARTESİ
DESCRIPTION:
URL:https://www.tbk.org.tr/event/25g122/
LOCATION:Türk Balıkadamlar Spor Kulübü\, Caddebostan Mah. Funda Çıkmazı Sk. No:8\, Kadıköy\, İstanbul\, 34728\, Türkiye
CATEGORIES:ETKİNLİKLER,GELİŞİM DALIŞLARI
ATTACH;FMTTYPE=image/jpeg:https://www.tbk.org.tr/wp-content/uploads/2024/11/Gelisim-scaled.jpg
ORGANIZER;CN="T%C3%BCrk Bal%C4%B1kadamlar Spor Kul%C3%BCb%C3%BC":MAILTO:info@tbk.org.tr
END:VEVENT
BEGIN:VEVENT
DTSTART;TZID=Europe/Moscow:20250824T083000
DTEND;TZID=Europe/Moscow:20250824T170000
DTSTAMP:20260420T070445
CREATED:20241202T160813Z
LAST-MODIFIED:20241203T092437Z
UID:9288-1756024200-1756054800@www.tbk.org.tr
SUMMARY:(25G123) GELİŞİM DALIŞI / 24 AĞUSTOS 2025 – PAZAR
DESCRIPTION:
URL:https://www.tbk.org.tr/event/25g123/
LOCATION:Türk Balıkadamlar Spor Kulübü\, Caddebostan Mah. Funda Çıkmazı Sk. No:8\, Kadıköy\, İstanbul\, 34728\, Türkiye
CATEGORIES:ETKİNLİKLER,GELİŞİM DALIŞLARI
ATTACH;FMTTYPE=image/jpeg:https://www.tbk.org.tr/wp-content/uploads/2024/11/Gelisim-scaled.jpg
ORGANIZER;CN="T%C3%BCrk Bal%C4%B1kadamlar Spor Kul%C3%BCb%C3%BC":MAILTO:info@tbk.org.tr
END:VEVENT
BEGIN:VEVENT
DTSTART;TZID=Europe/Moscow:20250830T083000
DTEND;TZID=Europe/Moscow:20250830T170000
DTSTAMP:20260420T070445
CREATED:20241202T161013Z
LAST-MODIFIED:20241203T092425Z
UID:9290-1756542600-1756573200@www.tbk.org.tr
SUMMARY:(25G124) GELİŞİM DALIŞI / 30 AĞUSTOS 2025 – CUMARTESİ
DESCRIPTION:
URL:https://www.tbk.org.tr/event/25g124/
LOCATION:Türk Balıkadamlar Spor Kulübü\, Caddebostan Mah. Funda Çıkmazı Sk. No:8\, Kadıköy\, İstanbul\, 34728\, Türkiye
CATEGORIES:ETKİNLİKLER,GELİŞİM DALIŞLARI
ATTACH;FMTTYPE=image/jpeg:https://www.tbk.org.tr/wp-content/uploads/2024/11/Gelisim-scaled.jpg
ORGANIZER;CN="T%C3%BCrk Bal%C4%B1kadamlar Spor Kul%C3%BCb%C3%BC":MAILTO:info@tbk.org.tr
END:VEVENT
END:VCALENDAR