BEGIN:VCALENDAR
VERSION:2.0
PRODID:-//Türk Balıkadamlar Spor Kulübü - ECPv6.15.20//NONSGML v1.0//EN
CALSCALE:GREGORIAN
METHOD:PUBLISH
X-ORIGINAL-URL:https://www.tbk.org.tr
X-WR-CALDESC:Türk Balıkadamlar Spor Kulübü için etkinlikler
REFRESH-INTERVAL;VALUE=DURATION:PT1H
X-Robots-Tag:noindex
X-PUBLISHED-TTL:PT1H
BEGIN:VTIMEZONE
TZID:Europe/Moscow
BEGIN:STANDARD
TZOFFSETFROM:+0300
TZOFFSETTO:+0300
TZNAME:MSK
DTSTART:20240101T000000
END:STANDARD
END:VTIMEZONE
BEGIN:VEVENT
DTSTART;TZID=Europe/Moscow:20250915T190000
DTEND;TZID=Europe/Moscow:20251005T180000
DTSTAMP:20260420T033131
CREATED:20241130T170253Z
LAST-MODIFIED:20241203T092320Z
UID:9225-1757962800-1759687200@www.tbk.org.tr
SUMMARY:(25E202) CMAS 2 YILDIZ DALICI EĞİTİMİ (2. DÖNEM) / 15 EYLÜL – 05 EKİM 2025
DESCRIPTION:
URL:https://www.tbk.org.tr/event/25e202/
LOCATION:Türk Balıkadamlar Spor Kulübü\, Caddebostan Mah. Funda Çıkmazı Sk. No:8\, Kadıköy\, İstanbul\, 34728\, Türkiye
CATEGORIES:EĞİTİMLER,ETKİNLİKLER
ATTACH;FMTTYPE=image/jpeg:https://www.tbk.org.tr/wp-content/uploads/2024/11/2-Yildiz.jpg
ORGANIZER;CN="T%C3%BCrk Bal%C4%B1kadamlar Spor Kul%C3%BCb%C3%BC":MAILTO:info@tbk.org.tr
END:VEVENT
BEGIN:VEVENT
DTSTART;TZID=Europe/Moscow:20250930T190000
DTEND;TZID=Europe/Moscow:20251012T180000
DTSTAMP:20260420T033131
CREATED:20241130T165206Z
LAST-MODIFIED:20241203T092255Z
UID:9220-1759258800-1760292000@www.tbk.org.tr
SUMMARY:(25E112) CMAS 1 YILDIZ DALICI EĞİTİMİ (12. DÖNEM) / 30 EYLÜL – 12 EKİM 2025
DESCRIPTION:
URL:https://www.tbk.org.tr/event/25e112/
LOCATION:Türk Balıkadamlar Spor Kulübü\, Caddebostan Mah. Funda Çıkmazı Sk. No:8\, Kadıköy\, İstanbul\, 34728\, Türkiye
CATEGORIES:EĞİTİMLER,ETKİNLİKLER
ATTACH;FMTTYPE=image/jpeg:https://www.tbk.org.tr/wp-content/uploads/2024/11/1-yildiz-1.jpg
ORGANIZER;CN="T%C3%BCrk Bal%C4%B1kadamlar Spor Kul%C3%BCb%C3%BC":MAILTO:info@tbk.org.tr
END:VEVENT
BEGIN:VEVENT
DTSTART;TZID=Europe/Moscow:20251011T083000
DTEND;TZID=Europe/Moscow:20251011T170000
DTSTAMP:20260420T033131
CREATED:20241202T161706Z
LAST-MODIFIED:20241203T092245Z
UID:9298-1760171400-1760202000@www.tbk.org.tr
SUMMARY:(25G128) GELİŞİM DALIŞI / 11 EKİM 2025 – CUMARTESİ
DESCRIPTION:
URL:https://www.tbk.org.tr/event/25g128/
LOCATION:Türk Balıkadamlar Spor Kulübü\, Caddebostan Mah. Funda Çıkmazı Sk. No:8\, Kadıköy\, İstanbul\, 34728\, Türkiye
CATEGORIES:ETKİNLİKLER,GELİŞİM DALIŞLARI
ATTACH;FMTTYPE=image/jpeg:https://www.tbk.org.tr/wp-content/uploads/2024/11/Gelisim-scaled.jpg
ORGANIZER;CN="T%C3%BCrk Bal%C4%B1kadamlar Spor Kul%C3%BCb%C3%BC":MAILTO:info@tbk.org.tr
END:VEVENT
BEGIN:VEVENT
DTSTART;TZID=Europe/Moscow:20251013T190000
DTEND;TZID=Europe/Moscow:20251109T180000
DTSTAMP:20260420T033131
CREATED:20241130T170514Z
LAST-MODIFIED:20241203T092232Z
UID:9227-1760382000-1762711200@www.tbk.org.tr
SUMMARY:(25E301) CMAS 3 YILDIZ DALICI EĞİTİMİ (1. DÖNEM) / 13 EKİM – 09 KASIM 2025
DESCRIPTION:
URL:https://www.tbk.org.tr/event/25e301/
LOCATION:Türk Balıkadamlar Spor Kulübü\, Caddebostan Mah. Funda Çıkmazı Sk. No:8\, Kadıköy\, İstanbul\, 34728\, Türkiye
CATEGORIES:EĞİTİMLER,ETKİNLİKLER
ATTACH;FMTTYPE=image/jpeg:https://www.tbk.org.tr/wp-content/uploads/2024/11/3-Yildiz.jpg
ORGANIZER;CN="T%C3%BCrk Bal%C4%B1kadamlar Spor Kul%C3%BCb%C3%BC":MAILTO:info@tbk.org.tr
END:VEVENT
BEGIN:VEVENT
DTSTART;TZID=Europe/Moscow:20251018T080000
DTEND;TZID=Europe/Moscow:20251018T170000
DTSTAMP:20260420T033131
CREATED:20241202T161853Z
LAST-MODIFIED:20241203T092216Z
UID:9300-1760774400-1760806800@www.tbk.org.tr
SUMMARY:(25G129) GELİŞİM DALIŞI / 18 EKİM 2025 – CUMARTESİ
DESCRIPTION:
URL:https://www.tbk.org.tr/event/25g129/
LOCATION:Türk Balıkadamlar Spor Kulübü\, Caddebostan Mah. Funda Çıkmazı Sk. No:8\, Kadıköy\, İstanbul\, 34728\, Türkiye
CATEGORIES:ETKİNLİKLER,GELİŞİM DALIŞLARI
ATTACH;FMTTYPE=image/jpeg:https://www.tbk.org.tr/wp-content/uploads/2024/11/Gelisim-scaled.jpg
ORGANIZER;CN="T%C3%BCrk Bal%C4%B1kadamlar Spor Kul%C3%BCb%C3%BC":MAILTO:info@tbk.org.tr
END:VEVENT
BEGIN:VEVENT
DTSTART;TZID=Europe/Moscow:20251019T083000
DTEND;TZID=Europe/Moscow:20251019T170000
DTSTAMP:20260420T033131
CREATED:20241202T162042Z
LAST-MODIFIED:20241203T092203Z
UID:9302-1760862600-1760893200@www.tbk.org.tr
SUMMARY:(25G130) GELİŞİM DALIŞI / 19 EKİM 2025 – PAZAR
DESCRIPTION:
URL:https://www.tbk.org.tr/event/25g130/
LOCATION:Türk Balıkadamlar Spor Kulübü\, Caddebostan Mah. Funda Çıkmazı Sk. No:8\, Kadıköy\, İstanbul\, 34728\, Türkiye
CATEGORIES:ETKİNLİKLER,GELİŞİM DALIŞLARI
ATTACH;FMTTYPE=image/jpeg:https://www.tbk.org.tr/wp-content/uploads/2024/11/Gelisim-scaled.jpg
ORGANIZER;CN="T%C3%BCrk Bal%C4%B1kadamlar Spor Kul%C3%BCb%C3%BC":MAILTO:info@tbk.org.tr
END:VEVENT
BEGIN:VEVENT
DTSTART;TZID=Europe/Moscow:20251025T083000
DTEND;TZID=Europe/Moscow:20251025T170000
DTSTAMP:20260420T033131
CREATED:20241202T162245Z
LAST-MODIFIED:20241203T092150Z
UID:9304-1761381000-1761411600@www.tbk.org.tr
SUMMARY:(25G131) GELİŞİM DALIŞI / 25 EKİM 2025 – CUMARTESİ
DESCRIPTION:
URL:https://www.tbk.org.tr/event/25g131/
LOCATION:Türk Balıkadamlar Spor Kulübü\, Caddebostan Mah. Funda Çıkmazı Sk. No:8\, Kadıköy\, İstanbul\, 34728\, Türkiye
CATEGORIES:ETKİNLİKLER,GELİŞİM DALIŞLARI
ATTACH;FMTTYPE=image/jpeg:https://www.tbk.org.tr/wp-content/uploads/2024/11/Gelisim-scaled.jpg
ORGANIZER;CN="T%C3%BCrk Bal%C4%B1kadamlar Spor Kul%C3%BCb%C3%BC":MAILTO:info@tbk.org.tr
END:VEVENT
END:VCALENDAR