BEGIN:VCALENDAR
VERSION:2.0
PRODID:-//Türk Balıkadamlar Spor Kulübü - ECPv6.15.20//NONSGML v1.0//EN
CALSCALE:GREGORIAN
METHOD:PUBLISH
X-ORIGINAL-URL:https://www.tbk.org.tr
X-WR-CALDESC:Türk Balıkadamlar Spor Kulübü için etkinlikler
REFRESH-INTERVAL;VALUE=DURATION:PT1H
X-Robots-Tag:noindex
X-PUBLISHED-TTL:PT1H
BEGIN:VTIMEZONE
TZID:Europe/Moscow
BEGIN:STANDARD
TZOFFSETFROM:+0300
TZOFFSETTO:+0300
TZNAME:MSK
DTSTART:20250101T000000
END:STANDARD
END:VTIMEZONE
BEGIN:VEVENT
DTSTART;TZID=Europe/Moscow:20260421T190000
DTEND;TZID=Europe/Moscow:20260503T170000
DTSTAMP:20260419T170557
CREATED:20251123T071157Z
LAST-MODIFIED:20260405T144323Z
UID:11447-1776798000-1777827600@www.tbk.org.tr
SUMMARY:(26E101) CMAS 1 YILDIZ DALICI EĞİTİMİ (1. DÖNEM) / 21 NİSAN – 03 MAYIS 2026
DESCRIPTION:Bu eğitim hakkında detaylı bilgiye BURAYA TIKLAYARAK erişebilirsiniz. Eğitimlerimize başvuru ve kayıtlar\, ilgili eğitimin başlangıç tarihinden yaklaşık iki hafta önce duyurularak sadece online olarak web sitemiz üzerinden alınmaktadır. Duyurulardan öncelikli olarak haberdar olmak istersiniz web sitemizin ana sayfasında bulunan “Whatsapp Duyuru Grubu” muza katılabilir veya @tbk1954 instagram adresimizi takip edebilirsiniz.
URL:https://www.tbk.org.tr/event/26e101/
LOCATION:Türk Balıkadamlar Spor Kulübü\, Caddebostan Mah. Funda Çıkmazı Sk. No:8\, Kadıköy\, İstanbul\, 34728\, Türkiye
CATEGORIES:EĞİTİMLER,ETKİNLİKLER
ATTACH;FMTTYPE=image/jpeg:https://www.tbk.org.tr/wp-content/uploads/2024/11/1-yildiz-1.jpg
ORGANIZER;CN="T%C3%BCrk Bal%C4%B1kadamlar Spor Kul%C3%BCb%C3%BC":MAILTO:info@tbk.org.tr
END:VEVENT
BEGIN:VEVENT
DTSTART;TZID=Europe/Moscow:20260425T083000
DTEND;TZID=Europe/Moscow:20260425T170000
DTSTAMP:20260419T170557
CREATED:20251123T084017Z
LAST-MODIFIED:20251123T084017Z
UID:11483-1777105800-1777136400@www.tbk.org.tr
SUMMARY:(26G103) GELİŞİM DALIŞI / 25 NİSAN 2026 CUMARTESİ
DESCRIPTION:Bu Gelişim Dalışı hakkında detaylı bilgiye https://www.tbk.org.tr/glsmdls/ linkinden erişebilirsiniz. Gelişim Dalışı başvuru ve kayıtları\, genellikle ilgili Gelişim Dalışının yapılacağı tarihin haftasının başında duyurularak sadece online olarak web sitemiz üzerinden alınmaktadır. Duyurulardan öncelikli olarak haberdar olmak istersiniz web sitemizin ana sayfasında bulunan “Whatsapp Duyuru Grubu” muza katılabilir veya @tbk1954 instagram adresimizi takip edebilirsiniz.
URL:https://www.tbk.org.tr/event/26g103/
LOCATION:Türk Balıkadamlar Spor Kulübü\, Caddebostan Mah. Funda Çıkmazı Sk. No:8\, Kadıköy\, İstanbul\, 34728\, Türkiye
CATEGORIES:ETKİNLİKLER,GELİŞİM DALIŞLARI
ATTACH;FMTTYPE=image/jpeg:https://www.tbk.org.tr/wp-content/uploads/2024/11/Gelisim-scaled.jpg
ORGANIZER;CN="T%C3%BCrk Bal%C4%B1kadamlar Spor Kul%C3%BCb%C3%BC":MAILTO:info@tbk.org.tr
END:VEVENT
BEGIN:VEVENT
DTSTART;TZID=Europe/Moscow:20260426T083000
DTEND;TZID=Europe/Moscow:20260426T170000
DTSTAMP:20260419T170557
CREATED:20251123T084245Z
LAST-MODIFIED:20251123T084245Z
UID:11485-1777192200-1777222800@www.tbk.org.tr
SUMMARY:(26G104) GELİŞİM DALIŞI / 26 NİSAN 2026 PAZAR
DESCRIPTION:Bu Gelişim Dalışı hakkında detaylı bilgiye https://www.tbk.org.tr/glsmdls/ linkinden erişebilirsiniz. Gelişim Dalışı başvuru ve kayıtları\, genellikle ilgili Gelişim Dalışının yapılacağı tarihin haftasının başında duyurularak sadece online olarak web sitemiz üzerinden alınmaktadır. Duyurulardan öncelikli olarak haberdar olmak istersiniz web sitemizin ana sayfasında bulunan “Whatsapp Duyuru Grubu” muza katılabilir veya @tbk1954 instagram adresimizi takip edebilirsiniz.
URL:https://www.tbk.org.tr/event/26g104/
LOCATION:Türk Balıkadamlar Spor Kulübü\, Caddebostan Mah. Funda Çıkmazı Sk. No:8\, Kadıköy\, İstanbul\, 34728\, Türkiye
CATEGORIES:ETKİNLİKLER,GELİŞİM DALIŞLARI
ATTACH;FMTTYPE=image/jpeg:https://www.tbk.org.tr/wp-content/uploads/2024/11/Gelisim-scaled.jpg
ORGANIZER;CN="T%C3%BCrk Bal%C4%B1kadamlar Spor Kul%C3%BCb%C3%BC":MAILTO:info@tbk.org.tr
END:VEVENT
END:VCALENDAR