BEGIN:VCALENDAR
VERSION:2.0
PRODID:-//Türk Balıkadamlar Spor Kulübü - ECPv6.15.20//NONSGML v1.0//EN
CALSCALE:GREGORIAN
METHOD:PUBLISH
X-WR-CALNAME:Türk Balıkadamlar Spor Kulübü
X-ORIGINAL-URL:https://www.tbk.org.tr
X-WR-CALDESC:Türk Balıkadamlar Spor Kulübü için etkinlikler
REFRESH-INTERVAL;VALUE=DURATION:PT1H
X-Robots-Tag:noindex
X-PUBLISHED-TTL:PT1H
BEGIN:VTIMEZONE
TZID:Europe/Moscow
BEGIN:STANDARD
TZOFFSETFROM:+0300
TZOFFSETTO:+0300
TZNAME:MSK
DTSTART:20250101T000000
END:STANDARD
END:VTIMEZONE
BEGIN:VEVENT
DTSTART;TZID=Europe/Moscow:20260801T083000
DTEND;TZID=Europe/Moscow:20260801T170000
DTSTAMP:20260420T001722
CREATED:20251123T090733Z
LAST-MODIFIED:20251123T090733Z
UID:11509-1785573000-1785603600@www.tbk.org.tr
SUMMARY:(26G116) GELİŞİM DALIŞI / 01 AĞUSTOS 2026 CUMARTESİ
DESCRIPTION:Bu Gelişim Dalışı hakkında detaylı bilgiye https://www.tbk.org.tr/glsmdls/ linkinden erişebilirsiniz. Gelişim Dalışı başvuru ve kayıtları\, genellikle ilgili Gelişim Dalışının yapılacağı tarihin haftasının başında duyurularak sadece online olarak web sitemiz üzerinden alınmaktadır. Duyurulardan öncelikli olarak haberdar olmak istersiniz web sitemizin ana sayfasında bulunan “Whatsapp Duyuru Grubu” muza katılabilir veya @tbk1954 instagram adresimizi takip edebilirsiniz.
URL:https://www.tbk.org.tr/event/26g116/
LOCATION:Türk Balıkadamlar Spor Kulübü\, Caddebostan Mah. Funda Çıkmazı Sk. No:8\, Kadıköy\, İstanbul\, 34728\, Türkiye
CATEGORIES:ETKİNLİKLER,GELİŞİM DALIŞLARI
ATTACH;FMTTYPE=image/jpeg:https://www.tbk.org.tr/wp-content/uploads/2024/11/Gelisim-scaled.jpg
ORGANIZER;CN="T%C3%BCrk Bal%C4%B1kadamlar Spor Kul%C3%BCb%C3%BC":MAILTO:info@tbk.org.tr
END:VEVENT
BEGIN:VEVENT
DTSTART;TZID=Europe/Moscow:20260802T083000
DTEND;TZID=Europe/Moscow:20260802T170000
DTSTAMP:20260420T001722
CREATED:20251123T090929Z
LAST-MODIFIED:20251123T090929Z
UID:11511-1785659400-1785690000@www.tbk.org.tr
SUMMARY:(26G117) GELİŞİM DALIŞI / 02 AĞUSTOS 2026 PAZAR
DESCRIPTION:Bu Gelişim Dalışı hakkında detaylı bilgiye https://www.tbk.org.tr/glsmdls/ linkinden erişebilirsiniz. Gelişim Dalışı başvuru ve kayıtları\, genellikle ilgili Gelişim Dalışının yapılacağı tarihin haftasının başında duyurularak sadece online olarak web sitemiz üzerinden alınmaktadır. Duyurulardan öncelikli olarak haberdar olmak istersiniz web sitemizin ana sayfasında bulunan “Whatsapp Duyuru Grubu” muza katılabilir veya @tbk1954 instagram adresimizi takip edebilirsiniz.
URL:https://www.tbk.org.tr/event/26g117/
LOCATION:Türk Balıkadamlar Spor Kulübü\, Caddebostan Mah. Funda Çıkmazı Sk. No:8\, Kadıköy\, İstanbul\, 34728\, Türkiye
CATEGORIES:ETKİNLİKLER,GELİŞİM DALIŞLARI
ATTACH;FMTTYPE=image/jpeg:https://www.tbk.org.tr/wp-content/uploads/2024/11/Gelisim-scaled.jpg
ORGANIZER;CN="T%C3%BCrk Bal%C4%B1kadamlar Spor Kul%C3%BCb%C3%BC":MAILTO:info@tbk.org.tr
END:VEVENT
BEGIN:VEVENT
DTSTART;TZID=Europe/Moscow:20260808T083000
DTEND;TZID=Europe/Moscow:20260808T170000
DTSTAMP:20260420T001722
CREATED:20251123T091135Z
LAST-MODIFIED:20251123T091135Z
UID:11513-1786177800-1786208400@www.tbk.org.tr
SUMMARY:(26G118) GELİŞİM DALIŞI / 08 AĞUSTOS 2026 CUMARTESİ
DESCRIPTION:Bu Gelişim Dalışı hakkında detaylı bilgiye https://www.tbk.org.tr/glsmdls/ linkinden erişebilirsiniz. Gelişim Dalışı başvuru ve kayıtları\, genellikle ilgili Gelişim Dalışının yapılacağı tarihin haftasının başında duyurularak sadece online olarak web sitemiz üzerinden alınmaktadır. Duyurulardan öncelikli olarak haberdar olmak istersiniz web sitemizin ana sayfasında bulunan “Whatsapp Duyuru Grubu” muza katılabilir veya @tbk1954 instagram adresimizi takip edebilirsiniz.
URL:https://www.tbk.org.tr/event/26g118/
LOCATION:Türk Balıkadamlar Spor Kulübü\, Caddebostan Mah. Funda Çıkmazı Sk. No:8\, Kadıköy\, İstanbul\, 34728\, Türkiye
CATEGORIES:ETKİNLİKLER,GELİŞİM DALIŞLARI
ATTACH;FMTTYPE=image/jpeg:https://www.tbk.org.tr/wp-content/uploads/2024/11/Gelisim-scaled.jpg
ORGANIZER;CN="T%C3%BCrk Bal%C4%B1kadamlar Spor Kul%C3%BCb%C3%BC":MAILTO:info@tbk.org.tr
END:VEVENT
BEGIN:VEVENT
DTSTART;TZID=Europe/Moscow:20260815T083000
DTEND;TZID=Europe/Moscow:20260815T170000
DTSTAMP:20260420T001722
CREATED:20251123T091247Z
LAST-MODIFIED:20251123T091247Z
UID:11515-1786782600-1786813200@www.tbk.org.tr
SUMMARY:(26G119) GELİŞİM DALIŞI / 15 AĞUSTOS 2026 CUMARTESİ
DESCRIPTION:Bu Gelişim Dalışı hakkında detaylı bilgiye https://www.tbk.org.tr/glsmdls/ linkinden erişebilirsiniz. Gelişim Dalışı başvuru ve kayıtları\, genellikle ilgili Gelişim Dalışının yapılacağı tarihin haftasının başında duyurularak sadece online olarak web sitemiz üzerinden alınmaktadır. Duyurulardan öncelikli olarak haberdar olmak istersiniz web sitemizin ana sayfasında bulunan “Whatsapp Duyuru Grubu” muza katılabilir veya @tbk1954 instagram adresimizi takip edebilirsiniz.
URL:https://www.tbk.org.tr/event/26g119/
LOCATION:Türk Balıkadamlar Spor Kulübü\, Caddebostan Mah. Funda Çıkmazı Sk. No:8\, Kadıköy\, İstanbul\, 34728\, Türkiye
CATEGORIES:ETKİNLİKLER,GELİŞİM DALIŞLARI
ATTACH;FMTTYPE=image/jpeg:https://www.tbk.org.tr/wp-content/uploads/2024/11/Gelisim-scaled.jpg
ORGANIZER;CN="T%C3%BCrk Bal%C4%B1kadamlar Spor Kul%C3%BCb%C3%BC":MAILTO:info@tbk.org.tr
END:VEVENT
BEGIN:VEVENT
DTSTART;TZID=Europe/Moscow:20260816T083000
DTEND;TZID=Europe/Moscow:20260816T170000
DTSTAMP:20260420T001722
CREATED:20251123T091407Z
LAST-MODIFIED:20251123T091407Z
UID:11517-1786869000-1786899600@www.tbk.org.tr
SUMMARY:(26G120) GELİŞİM DALIŞI / 16 AĞUSTOS 2026 PAZAR
DESCRIPTION:Bu Gelişim Dalışı hakkında detaylı bilgiye https://www.tbk.org.tr/glsmdls/ linkinden erişebilirsiniz. Gelişim Dalışı başvuru ve kayıtları\, genellikle ilgili Gelişim Dalışının yapılacağı tarihin haftasının başında duyurularak sadece online olarak web sitemiz üzerinden alınmaktadır. Duyurulardan öncelikli olarak haberdar olmak istersiniz web sitemizin ana sayfasında bulunan “Whatsapp Duyuru Grubu” muza katılabilir veya @tbk1954 instagram adresimizi takip edebilirsiniz.
URL:https://www.tbk.org.tr/event/26g120/
LOCATION:Türk Balıkadamlar Spor Kulübü\, Caddebostan Mah. Funda Çıkmazı Sk. No:8\, Kadıköy\, İstanbul\, 34728\, Türkiye
CATEGORIES:ETKİNLİKLER,GELİŞİM DALIŞLARI
ATTACH;FMTTYPE=image/jpeg:https://www.tbk.org.tr/wp-content/uploads/2024/11/Gelisim-scaled.jpg
ORGANIZER;CN="T%C3%BCrk Bal%C4%B1kadamlar Spor Kul%C3%BCb%C3%BC":MAILTO:info@tbk.org.tr
END:VEVENT
BEGIN:VEVENT
DTSTART;TZID=Europe/Moscow:20260822T083000
DTEND;TZID=Europe/Moscow:20260822T170000
DTSTAMP:20260420T001722
CREATED:20251123T091602Z
LAST-MODIFIED:20251123T091602Z
UID:11519-1787387400-1787418000@www.tbk.org.tr
SUMMARY:(26G121) GELİŞİM DALIŞI / 22 AĞUSTOS 2026 CUMARTESİ
DESCRIPTION:Bu Gelişim Dalışı hakkında detaylı bilgiye https://www.tbk.org.tr/glsmdls/ linkinden erişebilirsiniz. Gelişim Dalışı başvuru ve kayıtları\, genellikle ilgili Gelişim Dalışının yapılacağı tarihin haftasının başında duyurularak sadece online olarak web sitemiz üzerinden alınmaktadır. Duyurulardan öncelikli olarak haberdar olmak istersiniz web sitemizin ana sayfasında bulunan “Whatsapp Duyuru Grubu” muza katılabilir veya @tbk1954 instagram adresimizi takip edebilirsiniz.
URL:https://www.tbk.org.tr/event/26g121/
LOCATION:Türk Balıkadamlar Spor Kulübü\, Caddebostan Mah. Funda Çıkmazı Sk. No:8\, Kadıköy\, İstanbul\, 34728\, Türkiye
CATEGORIES:ETKİNLİKLER,GELİŞİM DALIŞLARI
ATTACH;FMTTYPE=image/jpeg:https://www.tbk.org.tr/wp-content/uploads/2024/11/Gelisim-scaled.jpg
ORGANIZER;CN="T%C3%BCrk Bal%C4%B1kadamlar Spor Kul%C3%BCb%C3%BC":MAILTO:info@tbk.org.tr
END:VEVENT
BEGIN:VEVENT
DTSTART;TZID=Europe/Moscow:20260829T083000
DTEND;TZID=Europe/Moscow:20260829T170000
DTSTAMP:20260420T001722
CREATED:20251123T091731Z
LAST-MODIFIED:20251123T091731Z
UID:11521-1787992200-1788022800@www.tbk.org.tr
SUMMARY:(26G122) GELİŞİM DALIŞI / 29 AĞUSTOS 2026 CUMARTESİ
DESCRIPTION:Bu Gelişim Dalışı hakkında detaylı bilgiye https://www.tbk.org.tr/glsmdls/ linkinden erişebilirsiniz. Gelişim Dalışı başvuru ve kayıtları\, genellikle ilgili Gelişim Dalışının yapılacağı tarihin haftasının başında duyurularak sadece online olarak web sitemiz üzerinden alınmaktadır. Duyurulardan öncelikli olarak haberdar olmak istersiniz web sitemizin ana sayfasında bulunan “Whatsapp Duyuru Grubu” muza katılabilir veya @tbk1954 instagram adresimizi takip edebilirsiniz.
URL:https://www.tbk.org.tr/event/26g122/
LOCATION:Türk Balıkadamlar Spor Kulübü\, Caddebostan Mah. Funda Çıkmazı Sk. No:8\, Kadıköy\, İstanbul\, 34728\, Türkiye
CATEGORIES:ETKİNLİKLER,GELİŞİM DALIŞLARI
ATTACH;FMTTYPE=image/jpeg:https://www.tbk.org.tr/wp-content/uploads/2024/11/Gelisim-scaled.jpg
ORGANIZER;CN="T%C3%BCrk Bal%C4%B1kadamlar Spor Kul%C3%BCb%C3%BC":MAILTO:info@tbk.org.tr
END:VEVENT
BEGIN:VEVENT
DTSTART;TZID=Europe/Moscow:20260830T083000
DTEND;TZID=Europe/Moscow:20260830T170000
DTSTAMP:20260420T001722
CREATED:20251123T091907Z
LAST-MODIFIED:20251123T091907Z
UID:11523-1788078600-1788109200@www.tbk.org.tr
SUMMARY:(26G123) GELİŞİM DALIŞI / 30 AĞUSTOS 2026 PAZAR
DESCRIPTION:Bu Gelişim Dalışı hakkında detaylı bilgiye https://www.tbk.org.tr/glsmdls/ linkinden erişebilirsiniz. Gelişim Dalışı başvuru ve kayıtları\, genellikle ilgili Gelişim Dalışının yapılacağı tarihin haftasının başında duyurularak sadece online olarak web sitemiz üzerinden alınmaktadır. Duyurulardan öncelikli olarak haberdar olmak istersiniz web sitemizin ana sayfasında bulunan “Whatsapp Duyuru Grubu” muza katılabilir veya @tbk1954 instagram adresimizi takip edebilirsiniz.
URL:https://www.tbk.org.tr/event/26g123/
LOCATION:Türk Balıkadamlar Spor Kulübü\, Caddebostan Mah. Funda Çıkmazı Sk. No:8\, Kadıköy\, İstanbul\, 34728\, Türkiye
CATEGORIES:ETKİNLİKLER,GELİŞİM DALIŞLARI
ORGANIZER;CN="T%C3%BCrk Bal%C4%B1kadamlar Spor Kul%C3%BCb%C3%BC":MAILTO:info@tbk.org.tr
END:VEVENT
END:VCALENDAR