BEGIN:VCALENDAR
VERSION:2.0
PRODID:-//Türk Balıkadamlar Spor Kulübü - ECPv6.15.20//NONSGML v1.0//EN
CALSCALE:GREGORIAN
METHOD:PUBLISH
X-WR-CALNAME:Türk Balıkadamlar Spor Kulübü
X-ORIGINAL-URL:https://www.tbk.org.tr
X-WR-CALDESC:Türk Balıkadamlar Spor Kulübü için etkinlikler
REFRESH-INTERVAL;VALUE=DURATION:PT1H
X-Robots-Tag:noindex
X-PUBLISHED-TTL:PT1H
BEGIN:VTIMEZONE
TZID:Europe/Moscow
BEGIN:STANDARD
TZOFFSETFROM:+0300
TZOFFSETTO:+0300
TZNAME:MSK
DTSTART:20250101T000000
END:STANDARD
END:VTIMEZONE
BEGIN:VEVENT
DTSTART;TZID=Europe/Moscow:20261017T083000
DTEND;TZID=Europe/Moscow:20261017T170000
DTSTAMP:20260420T035056
CREATED:20251123T092611Z
LAST-MODIFIED:20251123T092611Z
UID:11533-1792225800-1792256400@www.tbk.org.tr
SUMMARY:(26G128) GELİŞİM DALIŞI / 17 EKİM 2026 CUMARTESİ
DESCRIPTION:Bu Gelişim Dalışı hakkında detaylı bilgiye https://www.tbk.org.tr/glsmdls/ linkinden erişebilirsiniz. Gelişim Dalışı başvuru ve kayıtları\, genellikle ilgili Gelişim Dalışının yapılacağı tarihin haftasının başında duyurularak sadece online olarak web sitemiz üzerinden alınmaktadır. Duyurulardan öncelikli olarak haberdar olmak istersiniz web sitemizin ana sayfasında bulunan “Whatsapp Duyuru Grubu” muza katılabilir veya @tbk1954 instagram adresimizi takip edebilirsiniz.
URL:https://www.tbk.org.tr/event/26g128/
LOCATION:Türk Balıkadamlar Spor Kulübü\, Caddebostan Mah. Funda Çıkmazı Sk. No:8\, Kadıköy\, İstanbul\, 34728\, Türkiye
CATEGORIES:ETKİNLİKLER,GELİŞİM DALIŞLARI
ATTACH;FMTTYPE=image/jpeg:https://www.tbk.org.tr/wp-content/uploads/2024/11/Gelisim-scaled.jpg
ORGANIZER;CN="T%C3%BCrk Bal%C4%B1kadamlar Spor Kul%C3%BCb%C3%BC":MAILTO:info@tbk.org.tr
END:VEVENT
BEGIN:VEVENT
DTSTART;TZID=Europe/Moscow:20261024T083000
DTEND;TZID=Europe/Moscow:20261024T170000
DTSTAMP:20260420T035056
CREATED:20251123T092725Z
LAST-MODIFIED:20251123T092725Z
UID:11535-1792830600-1792861200@www.tbk.org.tr
SUMMARY:(26G129) GELİŞİM DALIŞI / 24 EKİM 2026 CUMARTESİ
DESCRIPTION:Bu Gelişim Dalışı hakkında detaylı bilgiye https://www.tbk.org.tr/glsmdls/ linkinden erişebilirsiniz. Gelişim Dalışı başvuru ve kayıtları\, genellikle ilgili Gelişim Dalışının yapılacağı tarihin haftasının başında duyurularak sadece online olarak web sitemiz üzerinden alınmaktadır. Duyurulardan öncelikli olarak haberdar olmak istersiniz web sitemizin ana sayfasında bulunan “Whatsapp Duyuru Grubu” muza katılabilir veya @tbk1954 instagram adresimizi takip edebilirsiniz.
URL:https://www.tbk.org.tr/event/26g129/
LOCATION:Türk Balıkadamlar Spor Kulübü\, Caddebostan Mah. Funda Çıkmazı Sk. No:8\, Kadıköy\, İstanbul\, 34728\, Türkiye
CATEGORIES:ETKİNLİKLER,GELİŞİM DALIŞLARI
ATTACH;FMTTYPE=image/jpeg:https://www.tbk.org.tr/wp-content/uploads/2024/11/Gelisim-scaled.jpg
ORGANIZER;CN="T%C3%BCrk Bal%C4%B1kadamlar Spor Kul%C3%BCb%C3%BC":MAILTO:info@tbk.org.tr
END:VEVENT
BEGIN:VEVENT
DTSTART;TZID=Europe/Moscow:20261025T083000
DTEND;TZID=Europe/Moscow:20261025T170000
DTSTAMP:20260420T035056
CREATED:20251123T092914Z
LAST-MODIFIED:20251123T092914Z
UID:11537-1792917000-1792947600@www.tbk.org.tr
SUMMARY:(26G130) GELİŞİM DALIŞI / 25 EKİM 2026 PAZAR
DESCRIPTION:Bu Gelişim Dalışı hakkında detaylı bilgiye https://www.tbk.org.tr/glsmdls/ linkinden erişebilirsiniz. Gelişim Dalışı başvuru ve kayıtları\, genellikle ilgili Gelişim Dalışının yapılacağı tarihin haftasının başında duyurularak sadece online olarak web sitemiz üzerinden alınmaktadır. Duyurulardan öncelikli olarak haberdar olmak istersiniz web sitemizin ana sayfasında bulunan “Whatsapp Duyuru Grubu” muza katılabilir veya @tbk1954 instagram adresimizi takip edebilirsiniz.
URL:https://www.tbk.org.tr/event/26g130/
LOCATION:Türk Balıkadamlar Spor Kulübü\, Caddebostan Mah. Funda Çıkmazı Sk. No:8\, Kadıköy\, İstanbul\, 34728\, Türkiye
CATEGORIES:ETKİNLİKLER,GELİŞİM DALIŞLARI
ATTACH;FMTTYPE=image/jpeg:https://www.tbk.org.tr/wp-content/uploads/2024/11/Gelisim-scaled.jpg
ORGANIZER;CN="T%C3%BCrk Bal%C4%B1kadamlar Spor Kul%C3%BCb%C3%BC":MAILTO:info@tbk.org.tr
END:VEVENT
BEGIN:VEVENT
DTSTART;TZID=Europe/Moscow:20261031T083000
DTEND;TZID=Europe/Moscow:20261031T170000
DTSTAMP:20260420T035056
CREATED:20251123T093047Z
LAST-MODIFIED:20251123T093047Z
UID:11539-1793435400-1793466000@www.tbk.org.tr
SUMMARY:(26G131) GELİŞİM DALIŞI / 31 EKİM 2026 CUMARTESİ
DESCRIPTION:Bu Gelişim Dalışı hakkında detaylı bilgiye https://www.tbk.org.tr/glsmdls/ linkinden erişebilirsiniz. Gelişim Dalışı başvuru ve kayıtları\, genellikle ilgili Gelişim Dalışının yapılacağı tarihin haftasının başında duyurularak sadece online olarak web sitemiz üzerinden alınmaktadır. Duyurulardan öncelikli olarak haberdar olmak istersiniz web sitemizin ana sayfasında bulunan “Whatsapp Duyuru Grubu” muza katılabilir veya @tbk1954 instagram adresimizi takip edebilirsiniz.
URL:https://www.tbk.org.tr/event/26g131/
LOCATION:Türk Balıkadamlar Spor Kulübü\, Caddebostan Mah. Funda Çıkmazı Sk. No:8\, Kadıköy\, İstanbul\, 34728\, Türkiye
CATEGORIES:ETKİNLİKLER,GELİŞİM DALIŞLARI
ATTACH;FMTTYPE=image/jpeg:https://www.tbk.org.tr/wp-content/uploads/2024/11/Gelisim-scaled.jpg
ORGANIZER;CN="T%C3%BCrk Bal%C4%B1kadamlar Spor Kul%C3%BCb%C3%BC":MAILTO:info@tbk.org.tr
END:VEVENT
END:VCALENDAR