BEGIN:VCALENDAR
VERSION:2.0
PRODID:-//Türk Balıkadamlar Spor Kulübü - ECPv6.15.20//NONSGML v1.0//EN
CALSCALE:GREGORIAN
METHOD:PUBLISH
X-WR-CALNAME:Türk Balıkadamlar Spor Kulübü
X-ORIGINAL-URL:https://www.tbk.org.tr
X-WR-CALDESC:Türk Balıkadamlar Spor Kulübü için etkinlikler
REFRESH-INTERVAL;VALUE=DURATION:PT1H
X-Robots-Tag:noindex
X-PUBLISHED-TTL:PT1H
BEGIN:VTIMEZONE
TZID:Europe/Moscow
BEGIN:STANDARD
TZOFFSETFROM:+0300
TZOFFSETTO:+0300
TZNAME:MSK
DTSTART:20230101T000000
END:STANDARD
END:VTIMEZONE
BEGIN:VEVENT
DTSTART;VALUE=DATE:20240218
DTEND;VALUE=DATE:20240219
DTSTAMP:20260423T185347
CREATED:20240128T104222Z
LAST-MODIFIED:20240212T125633Z
UID:6392-1708214400-1708300799@www.tbk.org.tr
SUMMARY:YENER ŞENOK İLE ŞARABIN ŞİFRELERİ
DESCRIPTION:ŞARABIN ŞİFRELERİNİ BİRLİKTE ÇÖZECEĞİMİZ VE TADIMIN İNCELİKLERİNİ ÖĞRENECEĞİMİZ KEYİFLİ BİR SÖYLEŞİYE HAZIR MISINIZ? \nSporcumuz Yener Şenok’un\, dalış ve sualtı fotoğrafçılığı gibi büyük bir tutkusu daha var: Şarap… Yıllardır amatör bir hevesle büyüttüğü şarap sevgisini\, Türkiye’nin önde gelen şarap profesyonellerinden eğitimler alarak bir adım ileriye taşıyan Şenok\, şimdiye dek çok sayıda atölye ve seminere katılmasına rağmen\, şarap öğrenciliğinin ömür boyu sürecek bir serüven olduğuna inanıyor. Halen sıklıkla şarap tadımlarına katılıyor\, bağ gezileri yapıyor. \n“Şarabın Şifreleri” semineri\, şarabı daha iyi anlamak ve tadımında uzmanlaşmak için ilk adımı atmak isteyen herkese bir nevi “Şarap 101” dersi niteliğinde. Şarap çeşitleri\, üretim yöntemleri\, şaraplık üzüm çeşitleri ve özellikleri\, Türkiye’de ve dünyada önemli şarap bölgeleri\, şarap tadımının incelikleri\, şarap seçimi\, şarap etiketlerindeki bilgilerin anlamları\, şarabın saklanması ve yıllandırılması\, ucuz ve pahalı şaraplar arasındaki farklar gibi konularda bilgi sahibi olacağımız bu keyifli söyleşiye tüm üye ve sporcularımızı bekliyoruz. \nNot: Etkinlikte şarap tadımı yapılmayacağını belirtmek isteriz. \nKonuşmacı: Yener Şenok\nTarih: 18 Şubat 2024\, Pazar\nSaat: 14.00\nYer: Türk Balıkadamlar Spor Kulübü\, Etkinlik Salonu
URL:https://www.tbk.org.tr/event/sarabin-sifreleri/
CATEGORIES:ETKİNLİKLER,SOSYAL ETKİNLİKLER
ATTACH;FMTTYPE=image/jpeg:https://www.tbk.org.tr/wp-content/uploads/2024/01/web-1.jpg
ORGANIZER;CN="T%C3%BCrk Bal%C4%B1kadamlar Spor Kul%C3%BCb%C3%BC":MAILTO:info@tbk.org.tr
END:VEVENT
END:VCALENDAR